Workbook
Name FX_RATE: 'Weekly Valuation'!$AC$145
Name NFEM_RATE: 'Weekly Valuation'!$AC$145

Sheet Weekly Valuation
A1: WEEKLY VALUATION REPORT OF COLLECTIVE INVESTMENT SCHEMES AS AT WEEK ENDED FRIDAY, OCTOBER 16, 2026
D2: NAV, Unit Price and Yield as at Week Ended October 9, 2026 | N2: NAV, Unit Price and Yield as at Week Ended October 16, 2026 | X2: % Change (Current from Previous) | AA2: Difference
A3: S/N | B3: FUND | C3: FUND MANAGER | D3: NAV ($) | E3: NAV (N) | F3: % to Total | G3: Bid Price ($) | H3: Bid Price (N) | I3: Offer Price ($) | J3: Offer Price (N) | K3: Unitholders | L3: Yield (WTD) | M3: Yield (YTD) | N3: NAV ($) | O3: NAV (N) | P3: % to Total | Q3: Bid Price ($) | R3: Bid Price (N) | S3: Offer Price ($) | T3: Offer Price (N) | U3: Unitholders | V3: Yield (WTD) | W3: Yield (YTD) | X3: NAV (%) | Y3: Unit Price (%) | Z3: Uniholders | AA3: Yield (%) WYD | AB3: Yield (%) YTD
B5: EQUITY BASED FUNDS
A6: 1 | B6: Afrinvest Equity Fund | C6: Afrinvest Asset Mgt Ltd. | D6: N/A | E6: 1.1734333e+10 | F6: =(E6/$E$28) -> 0.049016221 | G6: N/A | H6: 898.2183 | I6: N/A | J6: 904.3921 | K6: 1709 | L6: -0.0159 | M6: 0.4512 | N6: N/A | O6: 1.1567227e+10 | P6: =(O6/$O$28) -> 0.048415693 | Q6: N/A | R6: 893.4776 | S6: N/A | T6: 900.0518 | U6: 1709 | V6: -0.0053 | W6: 0.4435 | X6: =((O6-E6)/E6) -> -0.014240851 | Y6: =((T6-J6)/J6) -> -0.0047991352 | Z6: =((U6-K6)/K6) -> 0 | AA6: =V6-L6 -> 0.0106 | AB6: =W6-M6 -> -0.0077
A7: 2 | B7: Anchoria Equity Fund | C7: Anchoria Asset Management Limited | D7: N/A | E7: 2.2343214e+09 | F7: =(E7/$E$28) -> 0.0093331241 | G7: N/A | H7: 589.8025 | I7: N/A | J7: 598.4336 | K7: 915 | L7: 0 | M7: 0.4397 | N7: N/A | O7: 2.2973312e+09 | P7: =(O7/$O$28) -> 0.0096156914 | Q7: N/A | R7: 585.972 | S7: N/A | T7: 594.3825 | U7: 916 | V7: 0 | W7: 0.4304 | X7: =((O7-E7)/E7) -> 0.02820088 | Y7: =((T7-J7)/J7) -> -0.0067695063 | Z7: =((U7-K7)/K7) -> 0.0010928962 | AA7: =V7-L7 -> 0 | AB7: =W7-M7 -> -0.0093
A8: 3 | B8: ARM Aggressive Growth Fund | C8: ARM Investment Managers Limited | D8: N/A | E8: 1.813531e+10 | F8: =(E8/$E$28) -> 0.075754141 | G8: N/A | H8: 74.0514 | I8: N/A | J8: 76.260444 | K8: 13252 | L8: -0.2607 | M8: 0.3977 | N8: N/A | O8: 1.8121497e+10 | P8: =(O8/$O$28) -> 0.075849196 | Q8: N/A | R8: 74.2266 | S8: N/A | T8: 76.440844 | U8: 13283 | V8: 0.0024 | W8: 0.401 | X8: =((O8-E8)/E8) -> -0.00076164736 | Y8: =((T8-J8)/J8) -> 0.0023655776 | Z8: =((U8-K8)/K8) -> 0.0023392695 | AA8: =V8-L8 -> 0.2631 | AB8: =W8-M8 -> 0.0033
A9: 4 | B9: AXA Mansard Equity Income Fund | C9: AXA Mansard Investments Limited | D9: N/A | E9: 3.8962022e+09 | F9: =(E9/$E$28) -> 0.016275071 | G9: N/A | H9: 362.7422 | I9: N/A | J9: 362.7422 | K9: 3004 | L9: -0.0059368291 | M9: 0.4334 | N9: N/A | O9: 3.8596601e+09 | P9: =(O9/$O$28) -> 0.016154963 | Q9: N/A | R9: 359.4588 | S9: N/A | T9: 359.4588 | U9: 3013 | V9: -0.0091 | W9: 0.4205 | X9: =((O9-E9)/E9) -> -0.0093789075 | Y9: =((T9-J9)/J9) -> -0.0090516075 | Z9: =((U9-K9)/K9) -> 0.0029960053 | AA9: =V9-L9 -> -0.0031631709 | AB9: =W9-M9 -> -0.0129
A10: 5 | B10: CardinalStone Equity Fund | C10: CardinalStone Asset Mgt. Limited | D10: N/A | E10: 1.3832612e+10 | F10: =(E10/$E$28) -> 0.057781074 | G10: N/A | H10: 2.9998 | I10: N/A | J10: 3.0385 | K10: 3584 | L10: -0.0074 | M10: 0.622 | N10: N/A | O10: 1.3811027e+10 | P10: =(O10/$O$28) -> 0.057807327 | Q10: N/A | R10: 2.994 | S10: N/A | T10: 3.032 | U10: 3629 | V10: -0.002 | W10: 0.6187 | X10: =((O10-E10)/E10) -> -0.0015604611 | Y10: =((T10-J10)/J10) -> -0.0021392134 | Z10: =((U10-K10)/K10) -> 0.012555804 | AA10: =V10-L10 -> 0.0054 | AB10: =W10-M10 -> -0.0033
A11: 6 | B11: Coronation Equity Fund | C11: Coronation Asset Management Limited | D11: N/A | E11: 9.6090546e+08 | F11: =(E11/$E$28) -> 0.0040138585 | G11: N/A | H11: 1.0029 | I11: N/A | J11: 1.0306 | K11: 888 | L11: -0.01269935 | M11: 0.01675 | N11: N/A | O11: 9.6255527e+08 | P11: =(O11/$O$28) -> 0.0040288638 | Q11: N/A | R11: 1.0011 | S11: N/A | T11: 1.0287 | U11: 891 | V11: -0.0017947951 | W11: 0.0149 | X11: =((O11-E11)/E11) -> 0.00171693 | Y11: =((T11-J11)/J11) -> -0.0018435863 | Z11: =((U11-K11)/K11) -> 0.0033783784 | AA11: =V11-L11 -> 0.010904555 | AB11: =W11-M11 -> -0.00185
A12: 7 | B12: Cowry Equity Fund | C12: Cowry Treasurers Limited | D12: N/A | E12: 8.8639171e+08 | F12: =(E12/$E$28) -> 0.0037026025 | G12: N/A | H12: 344.1832 | I12: N/A | J12: 346.6628 | K12: 367 | L12: -0.00204 | M12: 0.6075 | N12: N/A | O12: 9.3359032e+08 | P12: =(O12/$O$28) -> 0.0039076283 | Q12: N/A | R12: 343.277 | S12: N/A | T12: 345.6124 | U12: 371 | V12: -0.000193 | W12: 0.6033 | X12: =((O12-E12)/E12) -> 0.05324803 | Y12: =((T12-J12)/J12) -> -0.0030300338 | Z12: =((U12-K12)/K12) -> 0.010899183 | AA12: =V12-L12 -> 0.001847 | AB12: =W12-M12 -> -0.0042
A13: 8 | B13: FCMBAM Equity Fund | C13: FCMB Asset Management Limited | D13: N/A | E13: 4.3433945e+09 | F13: =(E13/$E$28) -> 0.018143066 | G13: N/A | H13: 8.39 | I13: N/A | J13: 8.54 | K13: 3859 | L13: 0.0431 | M13: 0.5136 | N13: N/A | O13: 4.3050568e+09 | P13: =(O13/$O$28) -> 0.018019212 | Q13: N/A | R13: 8.33 | S13: N/A | T13: 8.49 | U13: 3856 | V13: 0.0366 | W13: 0.5041 | X13: =((O13-E13)/E13) -> -0.0088266581 | Y13: =((T13-J13)/J13) -> -0.0058548009 | Z13: =((U13-K13)/K13) -> -0.00077740347 | AA13: =V13-L13 -> -0.0065 | AB13: =W13-M13 -> -0.0095
A14: 9 | B14: First Asset Nigeria Smart Beta Equity Fund | C14: First Asset Management Limited | D14: N/A | E14: 6.7008885e+09 | F14: =(E14/$E$28) -> 0.027990702 | G14: N/A | H14: 590.68 | I14: N/A | J14: 598.44 | K14: 2336 | L14: -0.0085 | M14: 0.303 | N14: N/A | O14: 6.5143016e+09 | P14: =(O14/$O$28) -> 0.02726621 | Q14: N/A | R14: 588.98 | S14: N/A | T14: 596.91 | U14: 2337 | V14: -0.0027 | W14: 0.2992 | X14: =((O14-E14)/E14) -> -0.027845098 | Y14: =((T14-J14)/J14) -> -0.0025566473 | Z14: =((U14-K14)/K14) -> 0.00042808219 | AA14: =V14-L14 -> 0.0058 | AB14: =W14-M14 -> -0.0038
A15: 10 | B15: Frontier Fund | C15: SCM Capital Limited | D15: N/A | E15: 6.7991486e+08 | F15: =(E15/$E$28) -> 0.0028401151 | G15: N/A | H15: 338.79 | I15: N/A | J15: 347.26 | K15: 2472 | L15: -0.0109 | M15: 0.3406 | N15: N/A | O15: 6.2577231e+08 | P15: =(O15/$O$28) -> 0.0026192277 | Q15: N/A | R15: 304.52 | S15: N/A | T15: 312.35 | U15: 2472 | V15: -0.1011 | W15: 0.205 | X15: =((O15-E15)/E15) -> -0.079631365 | Y15: =((T15-J15)/J15) -> -0.10052986 | Z15: =((U15-K15)/K15) -> 0 | AA15: =V15-L15 -> -0.0902 | AB15: =W15-M15 -> -0.1356
A16: 11 | B16: Futureview Equity Fund | C16: Futureview Asset Management Limited | D16: N/A | E16: 2.0917548e+08 | F16: =(E16/$E$28) -> 0.00087376002 | G16: N/A | H16: 511.5268 | I16: N/A | J16: 527.9245 | K16: 84 | L16: -0.0106 | M16: 0.6141 | N16: N/A | O16: 2.0474457e+08 | P16: =(O16/$O$28) -> 0.00085697725 | Q16: N/A | R16: 507.7423 | S16: N/A | T16: 524.2273 | U16: 86 | V16: -0.0072 | W16: 0.6025 | X16: =((O16-E16)/E16) -> -0.021182745 | Y16: =((T16-J16)/J16) -> -0.0070032741 | Z16: =((U16-K16)/K16) -> 0.023809524 | AA16: =V16-L16 -> 0.0034 | AB16: =W16-M16 -> -0.0116
A17: 12 | B17: Guaranty Trust Equity Income Fund | C17: Guaranty Trust Fund Managers | D17: N/A | E17: 1.9997223e+10 | F17: =(E17/$E$28) -> 0.083531656 | G17: N/A | H17: 5.562255 | I17: N/A | J17: 5.668421 | K17: 21291 | L17: -0.015278592 | M17: 0.39812129 | N17: N/A | O17: 1.9924972e+10 | P17: =(O17/$O$28) -> 0.083397807 | Q17: N/A | R17: 5.583849 | S17: N/A | T17: 5.693216 | U17: 23765 | V17: 0.0038822384 | W17: 0.40354913 | X17: =((O17-E17)/E17) -> -0.0036130508 | Y17: =((T17-J17)/J17) -> 0.004374234 | Z17: =((U17-K17)/K17) -> 0.11619933 | AA17: =V17-L17 -> 0.019160831 | AB17: =W17-M17 -> 0.0054278402
... A19: 14 | B19: Meristem Equity Market Fund | C19: Meristem Wealth Management Limited | D19: N/A | E19: 8.8741558e+09 | F19: =(E19/$E$28) -> 0.037068793 | G19: N/A | H19: 47.611367 | I19: N/A | J19: 47.847549 | K19: 2410 | L19: -0.004 | M19: 0.4623 | N19: N/A | O19: 8.6918791e+09 | P19: =(O19/$O$28) -> 0.036380661 | Q19: N/A | R19: 46.975499 | S19: N/A | T19: 47.246593 | U19: 2401 | V19: -0.0133 | W19: 0.521 | X19: =((O19-E19)/E19) -> -0.02054017 | Y19: =((T19-J19)/J19) -> -0.012559815 | Z19: =((U19-K19)/K19) -> -0.0037344398 | AA19: =V19-L19 -> -0.0093 | AB19: =W19-M19 -> 0.0587
A20: 15 | B20: PACAM Equity Fund | C20: PAC Asset Management Limited | D20: N/A | E20: 4.0756631e+08 | F20: =(E20/$E$28) -> 0.0017024708 | G20: N/A | H20: 2.99 | I20: N/A | J20: 3.03 | K20: 53 | L20: -0.0059791406 | M20: 0.4159 | N20: N/A | O20: 4.0390504e+08 | P20: =(O20/$O$28) -> 0.0016905818 | Q20: N/A | R20: 2.83 | S20: N/A | T20: 2.86 | U20: 55 | V20: -0.0035316834 | W20: 0.52073664 | X20: =((O20-E20)/E20) -> -0.0089832431 | Y20: =((T20-J20)/J20) -> -0.056105611 | Z20: =((U20-K20)/K20) -> 0.037735849 | AA20: =V20-L20 -> 0.0024474572 | AB20: =W20-M20 -> 0.10483664 | AH20: `
A21: 16 | B21: Paramount Equity Fund | C21: Chapel Hill Denham Mgt. Limited | D21: N/A | E21: 2.3090345e+10 | F21: =(E21/$E$28) -> 0.09645213 | G21: N/A | H21: 74.2827 | I21: N/A | J21: 74.6954 | K21: 23494 | L21: -0.0302 | M21: 0.5647 | N21: N/A | O21: 2.3066817e+10 | P21: =(O21/$O$28) -> 0.096548286 | Q21: N/A | R21: 73.5659 | S21: N/A | T21: 73.6393 | U21: 24037 | V21: -0.0146 | W21: 0.6173 | X21: =((O21-E21)/E21) -> -0.0010189755 | Y21: =((T21-J21)/J21) -> -0.014138756 | Z21: =((U21-K21)/K21) -> 0.023112284 | AA21: =V21-L21 -> 0.0156 | AB21: =W21-M21 -> 0.0526
A22: 17 | B22: Parthian Equity Fund | C22: Parthian Capital Limited | D22: N/A | E22: 1.1950186e+08 | F22: =(E22/$E$28) -> 0.00049917872 | G22: N/A | H22: 1.056514 | I22: N/A | J22: 1.060514 | K22: 221 | L22: -0.0099 | M22: 0.0573 | N22: N/A | O22: 1.1637466e+08 | P22: =(O22/$O$28) -> 0.00048709686 | Q22: N/A | R22: 1.0615591 | S22: N/A | T22: 1.0655591 | U22: 228 | V22: 0.0051 | W22: 0.0624 | X22: =((O22-E22)/E22) -> -0.026168636 | Y22: =((T22-J22)/J22) -> 0.0047571618 | Z22: =((U22-K22)/K22) -> 0.031674208 | AA22: =V22-L22 -> 0.015 | AB22: =W22-M22 -> 0.0051
A23: 18 | B23: Stanbic IBTC Aggressive Fund (Sub Fund) | C23: Stanbic IBTC Asset Mgt. Limited | D23: N/A | E23: 4.3154606e+09 | F23: =(E23/$E$28) -> 0.018026382 | G23: N/A | H23: 17630.09 | I23: N/A | J23: 17841.03 | K23: 90 | L23: -0.0134 | M23: 0.3872 | N23: N/A | O23: 4.3588174e+09 | P23: =(O23/$O$28) -> 0.018244232 | Q23: N/A | R23: 17572.86 | S23: N/A | T23: 17774.6 | U23: 91 | V23: -0.0037234397 | W23: 0.38201774 | X23: =((O23-E23)/E23) -> 0.010046834 | Y23: =((T23-J23)/J23) -> -0.0037234397 | Z23: =((U23-K23)/K23) -> 0.011111111 | AA23: =V23-L23 -> 0.0096765603 | AB23: =W23-M23 -> -0.0051822631
A24: 19 | B24: Stanbic IBTC Nigerian Equity Fund | C24: Stanbic IBTC Asset Mgt. Limited | D24: N/A | E24: 6.7088893e+10 | F24: =(E24/$E$28) -> 0.28024123 | G24: N/A | H24: 61576.05 | I24: N/A | J24: 62386.51 | K24: 36529 | L24: -0.0104 | M24: 0.4415 | N24: N/A | O24: 6.6527157e+10 | P24: =(O24/$O$28) -> 0.27845555 | Q24: N/A | R24: 61291.99 | S24: N/A | T24: 62095.62 | U24: 36703 | V24: -0.0046627067 | W24: 0.43481196 | X24: =((O24-E24)/E24) -> -0.0083730121 | Y24: =((T24-J24)/J24) -> -0.0046627067 | Z24: =((U24-K24)/K24) -> 0.0047633387 | AA24: =V24-L24 -> 0.0057372933 | AB24: =W24-M24 -> -0.006688036
A25: 20 | B25: United Capital Equity Fund | C25: United Capital Asset Mgt. Ltd | D25: N/A | E25: 1.5210126e+10 | F25: =(E25/$E$28) -> 0.063535173 | G25: N/A | H25: 2.46113 | I25: N/A | J25: 2.48649 | K25: 11848 | L25: -0.0077 | M25: 0.2817 | N25: N/A | O25: 1.5576731e+10 | P25: =(O25/$O$28) -> 0.065197843 | Q25: N/A | R25: 2.52 | S25: N/A | T25: 2.55 | U25: 11848 | V25: 0.0233 | W25: 0.5036 | X25: =((O25-E25)/E25) -> 0.024102695 | Y25: =((T25-J25)/J25) -> 0.025542029 | Z25: =((U25-K25)/K25) -> 0 | AA25: =V25-L25 -> 0.031 | AB25: =W25-M25 -> 0.2219
A26: 21 | B26: Zedcrest Equity Fund | C26: Zedcrest Investment Managers Limited | D26: N/A | E26: 1.1443194e+10 | F26: =(E26/$E$28) -> 0.047800085 | G26: N/A | H26: 1.96 | I26: N/A | J26: 1.98 | K26: 7881 | L26: -0.042609 | M26: 0.925866 | N26: N/A | O26: 1.1976075e+10 | P26: =(O26/$O$28) -> 0.050126964 | Q26: N/A | R26: 2.03 | S26: N/A | T26: 2.06 | U26: 8073 | V26: 0.039062 | W26: 1.001006 | X26: =((O26-E26)/E26) -> 0.046567452 | Y26: =((T26-J26)/J26) -> 0.04040404 | Z26: =((U26-K26)/K26) -> 0.024362391 | AA26: =V26-L26 -> 0.081671 | AB26: =W26-M26 -> 0.07514
A27: 22 | B27: Zrosk Magna Equity Fund | C27: Zrosk Investment Management Limited | D27: N/A | E27: 2.4697918e+10 | F27: =(E27/$E$28) -> 0.10316723 | G27: N/A | H27: 366.89 | I27: N/A | J27: 373.13 | K27: 219 | L27: -0.0103 | M27: 0.7371 | N27: N/A | O27: 2.4505378e+10 | P27: =(O27/$O$28) -> 0.10256952 | Q27: N/A | R27: 360.11 | S27: N/A | T27: 366.23 | U27: 224 | V27: -0.0185 | W27: 0.705 | X27: =((O27-E27)/E27) -> -0.0077958379 | Y27: =((T27-J27)/J27) -> -0.018492215 | Z27: =((U27-K27)/K27) -> 0.02283105 | AA27: =V27-L27 -> -0.0082 | AB27: =W27-M27 -> -0.0321
C28: Sub-Total | D28: N/A | E28: =SUM(E6:E27) -> 2.3939694e+11 | F28: =(E28/E272) -> 0.024137395 | K28: =SUM(K6:K27) -> 136930 | M28: 0 | N28: N/A | O28: =SUM(O6:O27) -> 2.3891482e+11 | P28: =(O28/O272) -> 0.023890961 | U28: =SUM(U6:U27) -> 140415 | X28: =((O28-E28)/E28) -> -0.0020138985 | Y28: =((T28-J28)/J28) -> #DIV/0! | Z28: =((U28-K28)/K28) -> 0.02545096 | AA28: =V28-L28 -> 0 | AB28: =W28-M28 -> 0
A31: 23 | B31: Afrinvest Plutus Fund | C31: Afrinvest Asset Mgt Ltd. | D31: N/A | E31: 6.854842e+09 | F31: =(E31/$O$81) -> 0.001009951 | G31: N/A | H31: 100 | I31: N/A | J31: 100 | K31: 926 | L31: 0.1558 | M31: 0.1558 | N31: N/A | O31: 6.9563797e+09 | P31: =(O31/$O$81) -> 0.0010249109 | Q31: N/A | R31: 100 | S31: N/A | T31: 100 | U31: 924 | V31: 0.1532 | W31: 0.1532 | X31: =((O31-E31)/E31) -> 0.014812555 | Y31: =((T31-J31)/J31) -> 0 | Z31: =((U31-K31)/K31) -> -0.0021598272 | AA31: =V31-L31 -> -0.0026 | AB31: =W31-M31 -> -0.0026
A32: 24 | B32: AIICO Money Market Fund | C32: AIICO Capital Ltd | D32: N/A | E32: 4.7422757e+10 | F32: =(E32/$O$81) -> 0.0069869823 | G32: N/A | H32: 100 | I32: N/A | J32: 100 | K32: 5821 | L32: 0.1691 | M32: 0.1691 | N32: N/A | O32: 4.9040012e+10 | P32: =(O32/$O$81) -> 0.0072252589 | Q32: N/A | R32: 100 | S32: N/A | T32: 100 | U32: 5867 | V32: 0.1649 | W32: 0.1649 | X32: =((O32-E32)/E32) -> 0.034102938 | Y32: =((T32-J32)/J32) -> 0 | Z32: =((U32-K32)/K32) -> 0.0079024223 | AA32: =V32-L32 -> -0.0042 | AB32: =W32-M32 -> -0.0042
A33: 25 | B33: Alpha10 Money Market Fund | C33: Alpha10 Fund Management Limited | D33: N/A | E33: 3.190361e+09 | F33: =(E33/$O$81) -> 0.0004700485 | G33: N/A | H33: 1 | I33: N/A | J33: 1 | K33: 331 | L33: 0.17065 | M33: 0.17065 | N33: N/A | O33: 4160078806 | P33: =(O33/$O$81) -> 0.00061292086 | Q33: N/A | R33: 1 | S33: N/A | T33: 1 | U33: 335 | V33: 0.1782 | W33: 0.1782 | X33: =((O33-E33)/E33) -> 0.30395238 | Y33: =((T33-J33)/J33) -> 0 | Z33: =((U33-K33)/K33) -> 0.012084592 | AA33: =V33-L33 -> 0.00755 | AB33: =W33-M33 -> 0.00755
A34: 26 | B34: Anchoria Money Market Fund | C34: Anchoria Asset Management Limited | D34: N/A | E34: 5.6796881e+09 | F34: =(E34/$O$81) -> 0.00083681091 | G34: N/A | H34: 100 | I34: N/A | J34: 100 | K34: 3089 | L34: 0.179 | M34: 0.179 | N34: N/A | O34: 5.4249785e+09 | P34: =(O34/$O$81) -> 0.00079928353 | Q34: N/A | R34: 100 | S34: N/A | T34: 100 | U34: 3100 | V34: 0.177 | W34: 0.177 | X34: =((O34-E34)/E34) -> -0.044845716 | Y34: =((T34-J34)/J34) -> 0 | Z34: =((U34-K34)/K34) -> 0.003561023 | AA34: =V34-L34 -> -0.002 | AB34: =W34-M34 -> -0.002
A35: 27 | B35: Apel Wealth Money Market Fund | C35: Apel Wealth Management Limited | D35: N/A | E35: 2.0844801e+09 | F35: =(E35/$O$81) -> 0.00030711469 | G35: N/A | H35: 100 | I35: N/A | J35: 100 | K35: 235 | L35: 0.18419 | M35: 0.18419 | N35: N/A | O35: 2.1003387e+09 | P35: =(O35/$O$81) -> 0.0003094512 | Q35: N/A | R35: 100 | S35: N/A | T35: 100 | U35: 241 | V35: 0.185319 | W35: 0.185319 | X35: =((O35-E35)/E35) -> 0.0076079505 | Y35: =((T35-J35)/J35) -> 0 | Z35: =((U35-K35)/K35) -> 0.025531915 | AA35: =V35-L35 -> 0.001129 | AB35: =W35-M35 -> 0.001129
A36: 28 | B36: ARM Money Market Fund | C36: ARM Investment Managers Limited | D36: N/A | E36: 4.6092275e+11 | F36: =(E36/$O$81) -> 0.067909572 | G36: N/A | H36: 1 | I36: N/A | J36: 1 | K36: 91328 | L36: 0.1672 | M36: 0.1672 | N36: N/A | O36: 4.628359e+11 | P36: =(O36/$O$81) -> 0.068191443 | Q36: N/A | R36: 1 | S36: N/A | T36: 1 | U36: 91500 | V36: 0.1666 | W36: 0.1666 | X36: =((O36-E36)/E36) -> 0.0041506787 | Y36: =((T36-J36)/J36) -> 0 | Z36: =((U36-K36)/K36) -> 0.0018833217 | AA36: =V36-L36 -> -0.0006 | AB36: =W36-M36 -> -0.0006
A37: 29 | B37: AVA GAM Money Market Fund | C37: AVA Global Asset Managers Limited | D37: N/A | E37: 3.3835122e+09 | F37: =(E37/$O$81) -> 0.00049850623 | G37: N/A | H37: 1 | I37: N/A | J37: 1 | K37: 503 | L37: 0.175 | M37: 0.175 | N37: N/A | O37: 3.5713513e+09 | P37: =(O37/$O$81) -> 0.00052618132 | Q37: N/A | R37: 1 | S37: N/A | T37: 1 | U37: 508 | V37: 0.165 | W37: 0.165 | X37: =((O37-E37)/E37) -> 0.055516033 | Y37: =((T37-J37)/J37) -> 0 | Z37: =((U37-K37)/K37) -> 0.0099403579 | AA37: =V37-L37 -> -0.01 | AB37: =W37-M37 -> -0.01
A38: 30 | B38: AXA Mansard Money Market Fund | C38: AXA Mansard Investments Limited | D38: N/A | E38: 1.7848771e+11 | F38: =(E38/$O$81) -> 0.0262973 | G38: N/A | H38: 1 | I38: N/A | J38: 1 | K38: 42600 | L38: 0.1506685 | M38: 0.1506685 | N38: N/A | O38: 1.7860011e+11 | P38: =(O38/$O$81) -> 0.02631386 | Q38: N/A | R38: 1 | S38: N/A | T38: 1 | U38: 42702 | V38: 0.15950123 | W38: 0.15950123 | X38: =((O38-E38)/E38) -> 0.00062972694 | Y38: =((T38-J38)/J38) -> 0 | Z38: =((U38-K38)/K38) -> 0.0023943662 | AA38: =V38-L38 -> 0.0088327326 | AB38: =W38-M38 -> 0.0088327326
A39: 31 | B39: CardinalStone Money Market Fund | C39: CardinalStone Asset Mgt. Limited | D39: N/A | E39: 4.4962235e+10 | F39: =(E39/$O$81) -> 0.0066244639 | G39: N/A | H39: 1 | I39: N/A | J39: 1 | K39: 2963 | L39: 0.188 | M39: 0.188 | N39: N/A | O39: 4.486213e+10 | P39: =(O39/$O$81) -> 0.0066097151 | Q39: N/A | R39: 1 | S39: N/A | T39: 1 | U39: 3012 | V39: 0.1975 | W39: 0.1975 | X39: =((O39-E39)/E39) -> -0.002226422 | Y39: =((T39-J39)/J39) -> 0 | Z39: =((U39-K39)/K39) -> 0.016537293 | AA39: =V39-L39 -> 0.0095 | AB39: =W39-M39 -> 0.0095
A40: 32 | B40: Chapel Hill Denham Money Market Fund | C40: Chapel Hill Denham Mgt. Limited | D40: N/A | E40: 5.1633164e+10 | F40: =(E40/$O$81) -> 0.0076073183 | G40: N/A | H40: 100 | I40: N/A | J40: 100 | K40: 21207 | L40: 0.1853 | M40: 0.1853 | N40: N/A | O40: 5.3329807e+10 | P40: =(O40/$O$81) -> 0.0078572913 | Q40: N/A | R40: 100 | S40: N/A | T40: 100 | U40: 22081 | V40: 0.1806 | W40: 0.1806 | X40: =((O40-E40)/E40) -> 0.032859547 | Y40: =((T40-J40)/J40) -> 0 | Z40: =((U40-K40)/K40) -> 0.041212807 | AA40: =V40-L40 -> -0.0047 | AB40: =W40-M40 -> -0.0047
A41: 33 | B41: Comercio Partners Money Market Fund | C41: Comercio Partners Asset Management Limited | D41: N/A | E41: 3.6596626e+09 | F41: =(E41/$O$81) -> 0.00053919256 | G41: N/A | H41: 1 | I41: N/A | J41: 1 | K41: 943 | L41: 0.1912 | M41: 0.1912 | N41: N/A | O41: 3.8326374e+09 | P41: =(O41/$O$81) -> 0.00056467763 | Q41: N/A | R41: 1 | S41: N/A | T41: 1 | U41: 946 | V41: 0.1901 | W41: 0.1901 | X41: =((O41-E41)/E41) -> 0.047265242 | Y41: =((T41-J41)/J41) -> 0 | Z41: =((U41-K41)/K41) -> 0.0031813362 | AA41: =V41-L41 -> -0.0011 | AB41: =W41-M41 -> -0.0011
A42: 34 | B42: Coral Money Market Fund | C42: FSDH Asset Management Ltd | D42: N/A | E42: 1.2119765e+11 | F42: =(E42/$O$81) -> 0.017856529 | G42: N/A | H42: 100 | I42: N/A | J42: 100 | K42: 6823 | L42: 0.18107822 | M42: 0.18107822 | N42: N/A | O42: 1.2291977e+11 | P42: =(O42/$O$81) -> 0.018110256 | Q42: N/A | R42: 100 | S42: N/A | T42: 100 | U42: 6837 | V42: 0.18711152 | W42: 0.18711152 | X42: =((O42-E42)/E42) -> 0.014209231 | Y42: =((T42-J42)/J42) -> 0 | Z42: =((U42-K42)/K42) -> 0.0020518833 | AA42: =V42-L42 -> 0.0060332953 | AB42: =W42-M42 -> 0.0060332953
... A80: 72 | B80: Zenith Money Market Fund | C80: Zenith Asset Management Ltd | D80: N/A | E80: 1.6991362e+11 | F80: =(E80/$O$81) -> 0.025034046 | G80: N/A | H80: 1 | I80: N/A | J80: 1 | K80: 9800 | L80: 0.1588 | M80: 0.1588 | N80: N/A | O80: 1.6978082e+11 | P80: =(O80/$O$81) -> 0.02501448 | Q80: N/A | R80: 1 | S80: N/A | T80: 1 | U80: 9826 | V80: 0.1577 | W80: 0.1577 | X80: =((O80-E80)/E80) -> -0.00078159669 | Y80: =((T80-J80)/J80) -> 0 | Z80: =((U80-K80)/K80) -> 0.0026530612 | AA80: =V80-L80 -> -0.0011 | AB80: =W80-M80 -> -0.0011
C81: Sub-Total | D81: N/A | E81: =SUM(E31:E80) -> 6.7177409e+12 | F81: =(E81/E272) -> 0.67732177 | G81: N/A | K81: =SUM(K31:K80) -> 927990 | O81: =SUM(O31:O80) -> 6.7873017e+12 | P81: =(O81/O272) -> 0.67871536 | U81: =SUM(U31:U80) -> 948511 | X81: =((O81-E81)/E81) -> 0.010354796 | Y81: =((T81-J81)/J81) -> #DIV/0! | Z81: =((U81-K81)/K81) -> 0.022113385 | AA81: =V81-L81 -> 0 | AB81: =W81-M81 -> 0
...

Sheet NAV Comparison
A2: FUNDS | B2: Week Ended Oct 9, 2026 | C2: Week Ended Oct 16, 2026
A3: EQUITY BASED FUNDS | B3: =B13 -> 239.39694 | C3: =C13 -> 238.91482
A4: MONEY MARKET FUNDS | B4: =B14 -> 6717.7409 | C4: =C14 -> 6787.3017
A5: BONDS/FIXED INCOME FUNDS | B5: =B15 -> 230.91694 | C5: =C15 -> 231.69495
A6: DOLLAR FUNDS | B6: =B16 -> 1750.0111 | C6: =C16 -> 1768.6755
A7: REAL ESTATE INVESTMENT TRUST | B7: =B17 -> 520.30622 | C7: =C17 -> 520.58373
A8: BALANCED FUNDS | B8: =B18 -> 199.08054 | C8: =C18 -> 193.26022
A9: ETHICAL FUNDS | B9: =B19 -> 20.571904 | C9: =C19 -> 20.12989
A10: SHARI'AH COMPLAINT FUNDS | B10: =B20 -> 151.99338 | C10: =C20 -> 152.164
A11: SPECIALISED FUNDS | B11: =B21 -> 54.714582 | C11: =C21 -> 54.294982
A13: EQUITY BASED FUNDS | B13: ='Weekly Valuation'!E28/1000000000 -> 239.39694 | C13: ='Weekly Valuation'!O28/1000000000 -> 238.91482
A14: MONEY MARKET FUNDS | B14: ='Weekly Valuation'!E81/1000000000 -> 6717.7409 | C14: ='Weekly Valuation'!O81/1000000000 -> 6787.3017
A15: BONDS/FIXED INCOME FUNDS | B15: ='Weekly Valuation'!E122/1000000000 -> 230.91694 | C15: ='Weekly Valuation'!O122/1000000000 -> 231.69495
A16: DOLLAR FUNDS | B16: ='Weekly Valuation'!E168/1000000000 -> 1750.0111 | C16: ='Weekly Valuation'!O168/1000000000 -> 1768.6755
A17: REAL ESTATE INVESTMENT TRUST | B17: ='Weekly Valuation'!E177/1000000000 -> 520.30622 | C17: ='Weekly Valuation'!O177/1000000000 -> 520.58373
A18: BALANCED FUNDS | B18: ='Weekly Valuation'!E211/1000000000 -> 199.08054 | C18: ='Weekly Valuation'!O211/1000000000 -> 193.26022
A19: ETHICAL FUNDS | B19: ='Weekly Valuation'!E217/1000000000 -> 20.571904 | C19: ='Weekly Valuation'!O217/1000000000 -> 20.12989
A20: SHARI'AH COMPLAINT FUNDS | B20: ='Weekly Valuation'!E246/1000000000 -> 151.99338 | C20: ='Weekly Valuation'!O246/1000000000 -> 152.164
A21: SPECIALISED FUNDS | B21: ='Weekly Valuation'!E256/1000000000 -> 54.714582 | C21: ='Weekly Valuation'!O256/1000000000 -> 54.294982

Sheet Market Share
A1: FUNDS | B1: 46311
A2: ETHICAL FUNDS | B2: ='Weekly Valuation'!O217 -> 2.012989e+10
A3: SPECIALISED FUNDS | B3: ='Weekly Valuation'!O256 -> 5.4294982e+10
A4: SHARI'AH COMPLAINT FUNDS | B4: ='Weekly Valuation'!O246 -> 1.52164e+11
A5: BALANCED FUNDS | B5: ='Weekly Valuation'!O211 -> 1.9326022e+11
A6: EQUITY BASED FUNDS | B6: ='Weekly Valuation'!O28 -> 2.3891482e+11
A7: BONDS/FIXED INCOME FUNDS | B7: ='Weekly Valuation'!O122 -> 2.3169495e+11
A8: REAL ESTATE INVESTMENT TRUST | B8: ='Weekly Valuation'!O177 -> 5.2058373e+11
A9: DOLLAR FUNDS | B9: ='Weekly Valuation'!O168 -> 1.7686755e+12
A10: MONEY MARKET FUNDS | B10: ='Weekly Valuation'!O81 -> 6.7873017e+12

Sheet 8-Week Movement in NAV
A2: DATE | B2: 46262 | C2: 46269 | D2: 46276 | E2: 46283 | F2: 46290 | G2: 46297 | H2: 46304 | I2: 46311
A3: TOTAL NAV | B3: =B4 -> 9550.11 | C3: =C4 -> 9587.358 | D3: =D4 -> 9624.3323 | E3: =E4 -> 9642.4625 | F3: =F4 -> 9711.2672 | G3: =G4 -> 9840.976 | H3: =H4 -> 9884.7325 | I3: =I4 -> 9967.0198
B4: ='NAV Trend'!C11/1000000000 -> 9550.11 | C4: ='NAV Trend'!D11/1000000000 -> 9587.358 | D4: ='NAV Trend'!E11/1000000000 -> 9624.3323 | E4: ='NAV Trend'!F11/1000000000 -> 9642.4625 | F4: ='NAV Trend'!G11/1000000000 -> 9711.2672 | G4: ='NAV Trend'!H11/1000000000 -> 9840.976 | H4: ='NAV Trend'!I11/1000000000 -> 9884.7325 | I4: ='NAV Trend'!J11/1000000000 -> 9967.0198

Sheet 8-Week Movement in ETFs
A2: DATE | B2: 46262 | C2: 46269 | D2: 46276 | E2: 46283 | F2: 46290 | G2: 46297 | H2: 46304 | I2: 46311
A3: ETFs AGGREGATE | B3: =B4 -> 32.027779 | C3: =C4 -> 32.856495 | D3: =D4 -> 32.388754 | E3: =E4 -> 33.188677 | F3: =F4 -> 33.745985 | G3: =G4 -> 33.771849 | H3: =H4 -> 33.361299 | I3: =I4 -> 33.198374
B4: ='NAV Trend'!C17/1000000000 -> 32.027779 | C4: ='NAV Trend'!D17/1000000000 -> 32.856495 | D4: ='NAV Trend'!E17/1000000000 -> 32.388754 | E4: ='NAV Trend'!F17/1000000000 -> 33.188677 | F4: ='NAV Trend'!G17/1000000000 -> 33.745985 | G4: ='NAV Trend'!H17/1000000000 -> 33.771849 | H4: ='NAV Trend'!I17/1000000000 -> 33.361299 | I4: ='NAV Trend'!J17/1000000000 -> 33.198374

Sheet NAV Trend
A1: FUNDS | B1: 46255 | C1: 46262 | D1: 46269 | E1: 46276 | F1: 46283 | G1: 46290 | H1: 46297 | I1: 46304 | J1: 46311
A2: EQUITY BASED FUNDS | B2: 2.3106539e+11 | C2: 2.3050219e+11 | D2: 2.3697828e+11 | E2: 2.3375169e+11 | F2: 2.3781038e+11 | G2: 2.4383606e+11 | H2: 2.4326329e+11 | I2: 2.3939694e+11 | J2: 2.3891482e+11
A3: MONEY MARKET FUNDS | B3: 6.41416e+12 | C3: 6.4370933e+12 | D3: 6.4778669e+12 | E3: 6.4925166e+12 | F3: 6.5136259e+12 | G3: 6.5638763e+12 | H3: 6.6719313e+12 | I3: 6.7177409e+12 | J3: 6.7873017e+12
A4: BONDS/FIXED INCOME FUNDS | B4: 2.3249234e+11 | C4: 2.3336438e+11 | D4: 2.3315134e+11 | E4: 2.3283941e+11 | F4: 2.3215212e+11 | G4: 2.3202648e+11 | H4: 2.3279509e+11 | I4: 2.3091694e+11 | J4: 2.3169495e+11
A5: DOLLAR FUNDS | B5: 1.7708764e+12 | C5: 1.7587403e+12 | D5: 1.7353778e+12 | E5: 1.7419435e+12 | F5: 1.7305418e+12 | G5: 1.7340738e+12 | H5: 1.7461326e+12 | I5: 1.7500111e+12 | J5: 1.7686755e+12
A6: REAL ESTATE INVESTMENT TRUST | B6: 5.1571165e+11 | C6: 5.1601486e+11 | D6: 5.1706604e+11 | E6: 5.1909283e+11 | F6: 5.1941474e+11 | G6: 5.1972845e+11 | H6: 5.2085903e+11 | I6: 5.2030622e+11 | J6: 5.2058373e+11
A7: BALANCED FUNDS | B7: 1.5526223e+11 | C7: 1.5412518e+11 | D7: 1.6355192e+11 | E7: 1.8221536e+11 | F7: 1.8417967e+11 | G7: 1.9101623e+11 | H7: 1.9852092e+11 | I7: 1.9908054e+11 | J7: 1.9326022e+11
A8: ETHICAL FUNDS | B8: 1.9211809e+10 | C8: 1.9190577e+10 | D8: 1.9899618e+10 | E8: 1.9739566e+10 | F8: 2.0281642e+10 | G8: 2.0769351e+10 | H8: 2.0712879e+10 | I8: 2.0571904e+10 | J8: 2.012989e+10
A9: SHARI'AH COMPLAINT FUNDS | B9: 1.4698932e+11 | C9: 1.4758544e+11 | D9: 1.4983203e+11 | E9: 1.484423e+11 | F9: 1.5059493e+11 | G9: 1.5172349e+11 | H9: 1.5239537e+11 | I9: 1.5199338e+11 | J9: 1.52164e+11
A10: SPECIALISED FUNDS | B10: 5.3336377e+10 | C10: 5.3493722e+10 | D10: 5.3634017e+10 | E10: 5.3791006e+10 | F10: 5.3861324e+10 | G10: 5.4217041e+10 | H10: 5.4365457e+10 | I10: 5.4714582e+10 | J10: 5.4294982e+10
A11: TOTAL | B11: =SUM(B2:B10) -> 9.5391055e+12 | C11: =SUM(C2:C10) -> 9.55011e+12 | D11: =SUM(D2:D10) -> 9.587358e+12 | E11: =SUM(E2:E10) -> 9.6243323e+12 | F11: =SUM(F2:F10) -> 9.6424625e+12 | G11: =SUM(G2:G10) -> 9.7112672e+12 | H11: =SUM(H2:H10) -> 9.840976e+12 | I11: =SUM(I2:I10) -> 9.8847325e+12 | J11: =SUM(J2:J10) -> 9.9670198e+12
A13: MOVING AVERAGE: | B13: - | C13: =(B11+C11)/2 -> 9.5446077e+12 | D13: =(C11+D11)/2 -> 9.568734e+12 | E13: =(D11+E11)/2 -> 9.6058452e+12 | F13: =(E11+F11)/2 -> 9.6333974e+12 | G13: =(F11+G11)/2 -> 9.6768648e+12 | H13: =(G11+H11)/2 -> 9.7761216e+12 | I13: =(H11+I11)/2 -> 9.8628542e+12 | J13: =(I11+J11)/2 -> 9.9258761e+12
A16: FUND | B16: 46255 | C16: 46262 | D16: 46269 | E16: 46276 | F16: 46283 | G16: 46290 | H16: 46297 | I16: 46304 | J16: 46311
A17: EXCHANGE TRADED FUNDS (ETFs) | B17: 3.1723704e+10 | C17: 3.2027779e+10 | D17: 3.2856495e+10 | E17: 3.2388754e+10 | F17: 3.3188677e+10 | G17: 3.3745985e+10 | H17: 3.3771849e+10 | I17: 3.3361299e+10 | J17: 3.3198374e+10
