Workbook
Name _Hlk34300669: September!$K$73
Name Component: "Group"
Name FX_RATE: September!$C$271
Name pbCountingPages: FALSE

Sheet September
A1: MONTHLY UPDATE ON REGISTERED MUTUAL FUNDS AS AT 30TH SEPTEMBER, 2026
A2: S/N | B2: FUND | C2: FUND MANAGER | D2: TOTAL VALUE OF INVESTMENT (N) | E2: TOTAL INCOME (N) | F2: UNREALIZED CAPITAL GAIN/LOSS (N) | G2: TOTAL EXPENSES (N) | H2: NET INCOME/LOSS (N) | I2: NET ASSET VALUE (N) PREVIOUS - AUGUST | J2: % ON TOTAL | K2: NET ASSET VALUE (N) | L2: % ON TOTAL | M2: % CHANGE IN NAV | N2: EXPENSE RATIO | O2: RETURN ON EQUITY (ROE) | P2: NET ASSET PER UNIT | Q2: EARNINGS PER UNIT (EPU) | R2: BID PRICE (N) | S2: OFFER PRICE (N) | T2: NUMBER OF UNIT HOLDERS | U2: OPENING NUMBER OF UNITS | V2: CLOSING NUMBER OF UNITS
A4: EQUITY BASED FUNDS
A5: 1 | B5: Afrinvest Equity Fund | C5: Afrinvest Asset Management Ltd. | D5: 1.1582849e+10 | E5: 70049012 | F5: 3.8387077e+09 | G5: 19316753 | H5: =(E5+F5)-G5 -> 3.8894399e+09 | I5: 1.1849816e+10 | J5: =(I5/$I$27) -> 0.050700303 | K5: 1.1905696e+10 | L5: =(K5/$K$27) -> 0.04888052 | M5: =((K5-I5)/I5) -> 0.0047157028 | N5: =(G5/K5) -> 0.0016224799 | O5: =H5/K5 -> 0.32668731 | P5: =K5/V5 -> 911.93141 | Q5: =H5/V5 -> 297.91642 | R5: 911.93 | S5: 911.93 | T5: 1709 | U5: 13409121 | V5: 13055474
A6: 2 | B6: Anchoria Equity Fund | C6: Anchoria Asset Management Limited | D6: 2.3419712e+09 | E6: 2478868 | F6: 8.24596e+08 | G6: 2908690.7 | H6: =(E6+F6)-G6 -> 8.2416618e+08 | I6: 2.2320297e+09 | J6: =(I6/$I$27) -> 0.009549902 | K6: 2.3672594e+09 | L6: =(K6/$K$27) -> 0.009719118 | M6: =((K6-I6)/I6) -> 0.060585953 | N6: =(G6/K6) -> 0.0012287165 | O6: =H6/K6 -> 0.34815204 | P6: =K6/V6 -> 600.98334 | Q6: =H6/V6 -> 209.23358 | R6: 595.25 | S6: 603.93 | T6: 692 | U6: 3798435.2 | V6: 3938976.7
A7: 3 | B7: ARM Aggressive Growth Fund | C7: ARM Investment Managers Limited | D7: 16456786245 | E7: 142050327 | F7: 507674937 | G7: 33940681 | H7: =(E7+F7)-G7 -> 615784583 | I7: 18153216351 | J7: =(I7/$I$27) -> 0.077669861 | K7: 18242326781 | L7: =(K7/$K$27) -> 0.074896452 | M7: =((K7-I7)/I7) -> 0.0049087957 | N7: =(G7/K7) -> 0.0018605456 | O7: =H7/K7 -> 0.033755814 | P7: =K7/V7 -> 74.048992 | Q7: =H7/V7 -> 2.499584 | R7: 73.6788 | S7: 75.9002 | T7: 13180 | U7: 253219323 | V7: 246354830
A8: 4 | B8: AXA Mansard Equity Income Fund | C8: AXA Mansard Investments Limited | D8: 2.9151388e+09 | E8: 14274364 | F8: 0 | G8: 5127225.6 | H8: =(E8+F8)-G8 -> 9147137.9 | I8: 3.6454112e+09 | J8: =(I8/$I$27) -> 0.015597158 | K8: 3.8958872e+09 | L8: =(K8/$K$27) -> 0.015995116 | M8: =((K8-I8)/I8) -> 0.068709949 | N8: =(G8/K8) -> 0.0013160611 | O8: =H8/K8 -> 0.002347896 | P8: =K8/V8 -> 364.71586 | Q8: =H8/V8 -> 0.8563149 | R8: 362.8923 | S8: 366.5394 | T8: 3010 | U8: 10271854 | V8: 10681979
A9: 5 | B9: CardinalStone Equity Fund | C9: CardinalStone Asset Mgt. Limited | D9: 1.3800512e+10 | E9: 1.2613537e+08 | F9: 4.5623499e+08 | G9: 16246485 | H9: =(E9+F9)-G9 -> 5.6612388e+08 | I9: 1.269285e+10 | J9: =(I9/$I$27) -> 0.054307285 | K9: 1.3958399e+10 | L9: =(K9/$K$27) -> 0.057308182 | M9: =((K9-I9)/I9) -> 0.099705669 | N9: =(G9/K9) -> 0.0011639218 | O9: =H9/K9 -> 0.040557937 | P9: =K9/V9 -> 2.9890712 | Q9: =H9/V9 -> 0.12123056 | R9: 2.9605 | S9: 3.0004 | T9: 3508 | U9: 4.4368825e+09 | V9: 4.6698115e+09
A10: 6 | B10: Coronation Equity Fund | C10: Coronation Asset Management Limited | D10: 1.0194706e+09 | E10: 1852670.3 | F10: 49059129 | G10: 2544200.9 | H10: =(E10+F10)-G10 -> 48367598 | I10: 0 | J10: =(I10/$I$27) -> 0 | K10: 1.0219585e+09 | L10: =(K10/$K$27) -> 0.004195795 | M10: =((K10-I10)/I10) -> #DIV/0! | N10: =(G10/K10) -> 0.0024895345 | O10: =H10/K10 -> 0.047328341 | P10: =K10/V10 -> 1.0346079 | Q10: =H10/V10 -> 0.048966273 | R10: 1.0175 | S10: 1.0456 | T10: 876 | U10: 9.3673122e+08 | V10: 9.8777374e+08
A11: 7 | B11: Cowry Equity Fund | C11: Cowry Treasurers Limited | D11: 8.3395523e+08 | E11: 3170350.2 | F11: 2.3873338e+08 | G11: 1929563.9 | H11: =(E11+F11)-G11 -> 2.3997417e+08 | I11: 7.4587336e+08 | J11: =(I11/$I$27) -> 0.0031912736 | K11: 9.1380496e+08 | L11: =(K11/$K$27) -> 0.0037517555 | M11: =((K11-I11)/I11) -> 0.22514761 | N11: =(G11/K11) -> 0.0021115708 | O11: =H11/K11 -> 0.26260983 | P11: =K11/V11 -> 353.45431 | Q11: =H11/V11 -> 92.820577 | R11: 353.45431 | S11: 357.70335 | T11: 219 | U11: 2213898.5 | V11: 2585355.3
A12: 8 | B12: FCMBAM Equity Fund | C12: FCMB Asset Management Limited | D12: 4.0986396e+09 | E12: 33668485 | F12: 0 | G12: 7302629.2 | H12: =(E12+F12)-G12 -> 26365856 | I12: 4.2463288e+09 | J12: =(I12/$I$27) -> 0.018168228 | K12: 4.3190003e+09 | L12: =(K12/$K$27) -> 0.017732267 | M12: =((K12-I12)/I12) -> 0.017113976 | N12: =(G12/K12) -> 0.0016908147 | O12: =H12/K12 -> 0.0061046199 | P12: =K12/V12 -> 8.5189181 | Q12: =H12/V12 -> 0.052004757 | R12: 8.42 | S12: 8.57 | T12: 3861 | U12: 511964638 | V12: 5.069893e+08
A13: 9 | B13: First Asset Nigeria Smart Beta Equity Fund | C13: First Asset Management Limited | D13: 7.0639992e+09 | E13: 27128766 | F13: -1.8777464e+08 | G13: 11266193 | H13: =(E13+F13)-G13 -> -1.7191207e+08 | I13: 6.8503786e+09 | J13: =(I13/$I$27) -> 0.029309845 | K13: 6.8358291e+09 | L13: =(K13/$K$27) -> 0.028065463 | M13: =((K13-I13)/I13) -> -0.0021238986 | N13: =(G13/K13) -> 0.0016481092 | O13: =H13/K13 -> -0.025148679 | P13: =K13/V13 -> 595.73761 | Q13: =H13/V13 -> -14.982014 | R13: 595.74 | S13: 603.45 | T13: 3115 | U13: 11503976 | V13: 11474564
A14: 10 | B14: Frontier Fund | C14: SCM Capital Limited | D14: 7.1005524e+08 | E14: 7400225.9 | F14: 0 | G14: 1955355.4 | H14: =(E14+F14)-G14 -> 5444870.6 | I14: 6.3663545e+08 | J14: =(I14/$I$27) -> 0.0027238912 | K14: 6.7559496e+08 | L14: =(K14/$K$27) -> 0.0027737506 | M14: =((K14-I14)/I14) -> 0.061195951 | N14: =(G14/K14) -> 0.0028942717 | O14: =H14/K14 -> 0.0080593712 | P14: =K14/V14 -> 336.63944 | Q14: =H14/V14 -> 2.7131022 | R14: 336.64 | S14: 349.41 | T14: 2475 | U14: 2006880 | V14: 2006880
A15: 11 | B15: Futureview Equity Fund | C15: Futureview Asset Management Limited | D15: 1.9745739e+08 | E15: 2390354.6 | F15: 39770471 | G15: 4628931.5 | H15: =(E15+F15)-G15 -> 37531895 | I15: 2.0826353e+08 | J15: =(I15/$I$27) -> 0.00089107072 | K15: 2.120756e+08 | L15: =(K15/$K$27) -> 0.00087070638 | M15: =((K15-I15)/I15) -> 0.018304073 | N15: =(G15/K15) -> 0.021826799 | O15: =H15/K15 -> 0.17697413 | P15: =K15/V15 -> 527.62823 | Q15: =H15/V15 -> 93.376545 | R15: 518.42 | S15: 535.11 | T15: 84 | U15: 395041.66 | V15: 401941.35
A16: 12 | B16: Guaranty Trust Equity Income Fund | C16: Guaranty Trust Fund Managers Limited | D16: 2.0064645e+10 | E16: 57973088 | F16: 7.8939348e+08 | G16: 34212018 | H16: =(E16+F16)-G16 -> 8.1315455e+08 | I16: 1.9446443e+10 | J16: =(I16/$I$27) -> 0.083203025 | K16: 2.0208845e+10 | L16: =(K16/$K$27) -> 0.082970272 | M16: =((K16-I16)/I16) -> 0.039205236 | N16: =(G16/K16) -> 0.001692923 | O16: =H16/K16 -> 0.040237556 | P16: =K16/V16 -> 5.6523074 | Q16: =H16/V16 -> 0.22743504 | R16: 5.64 | S16: 5.75 | T16: 20716 | U16: 3.6094067e+09 | V16: 3.5753266e+09
... A26: 22 | B26: Zrosk Magna Equity Fund | C26: Zrosk Investment Management Limited | D26: 2.5425875e+10 | E26: -7971999 | F26: 1.458475e+09 | G26: 48957154 | H26: =(E26+F26)-G26 -> 1.4015458e+09 | I26: 23389475181 | J26: =(I26/$I$27) -> 0.10007358 | K26: 24949069212 | L26: =(K26/$K$27) -> 0.10243193 | M26: =((K26-I26)/I26) -> 0.066679308 | N26: =(G26/K26) -> 0.0019622838 | O26: =H26/K26 -> 0.056176276 | P26: =K26/V26 -> 374.48257 | Q26: =H26/V26 -> 21.037036 | R26: 370.76 | S26: 377.06 | T26: 214 | U26: 66185011 | V26: 66622779
A27: Sub Total | I27: =SUM(I5:I26) -> 2.3372279e+11 | J27: =(I27/$I$269) -> 0.024336736 | K27: =SUM(K5:K26) -> 2.435673e+11 | L27: =(K27/$K$269) -> 0.024896848 | M27: =((K27-I27)/I27) -> 0.042120476 | T27: =SUM(T5:T26) -> 120759
A29: MONEY MARKET FUNDS
A30: 23 | B30: Afrinvest Plutus Fund | C30: Afrinvest Asset Management Ltd. | D30: 6.7540209e+09 | E30: 1.031407e+08 | F30: 0 | G30: 12233005 | H30: =(E30+F30)-G30 -> 90907697 | I30: 6.8518548e+09 | J30: =(I30/$I$79) -> 0.001062544 | K30: 6.5688112e+09 | L30: =(K30/$K$79) -> 0.00099834551 | M30: =((K30-I30)/I30) -> -0.041309046 | N30: =(G30/K30) -> 0.0018622859 | O30: =H30/K30 -> 0.013839292 | P30: =K30/V30 -> 100.19084 | Q30: =H30/V30 -> 1.3865703 | R30: 100 | S30: 100 | T30: 919 | U30: 68335203 | V30: 65562993
A31: 24 | B31: AIICO Money Market Fund | C31: AIICO Capital Ltd | D31: 4.7615603e+10 | E31: 8.1364279e+08 | F31: 0 | G31: 75497404 | H31: =(E31+F31)-G31 -> 7.3814539e+08 | I31: 4.7599368e+10 | J31: =(I31/$I$79) -> 0.0073814208 | K31: 4.8261732e+10 | L31: =(K31/$K$79) -> 0.0073349473 | M31: =((K31-I31)/I31) -> 0.013915391 | N31: =(G31/K31) -> 0.0015643327 | O31: =H31/K31 -> 0.015294631 | P31: =K31/V31 -> 104.21578 | Q31: =H31/V31 -> 1.593942 | R31: 100 | S31: 100 | T31: 5776 | U31: 4.6269548e+08 | V31: 4.6309426e+08
A32: 25 | B32: Alpha10 Money Market Fund | C32: Alpha10 Fund Management Limited | D32: 1.9362001e+09 | E32: 40212683 | F32: 0 | G32: 4515551.7 | H32: =(E32+F32)-G32 -> 35697132 | I32: 2.126484e+09 | J32: =(I32/$I$79) -> 0.00032976221 | K32: 3.0569472e+09 | L32: =(K32/$K$79) -> 0.00046460302 | M32: =((K32-I32)/I32) -> 0.43755948 | N32: =(G32/K32) -> 0.0014771442 | O32: =H32/K32 -> 0.011677379 | P32: =K32/V32 -> 1 | Q32: =H32/V32 -> 0.011677379 | R32: 1 | S32: 1 | T32: 346 | U32: 2134581426 | V32: 3056947196
A33: 26 | B33: Anchoria Money Market Fund | C33: Anchoria Asset Management Limited | D33: 5.5400534e+09 | E33: 72125204 | F33: 0 | G33: 5932585.7 | H33: =(E33+F33)-G33 -> 66192618 | I33: 4.4416672e+09 | J33: =(I33/$I$79) -> 0.00068878676 | K33: 5.6135181e+09 | L33: =(K33/$K$79) -> 0.00085315752 | M33: =((K33-I33)/I33) -> 0.26383132 | N33: =(G33/K33) -> 0.0010568391 | O33: =H33/K33 -> 0.011791646 | P33: =K33/V33 -> 118.92946 | Q33: =H33/V33 -> 1.402374 | R33: 100 | S33: 100 | T33: 2423 | U33: 36168541 | V33: 47200402
A34: 27 | B34: Apel Wealth Money Market Fund | C34: Apel Wealth Management Limited | D34: 1.0765099e+09 | E34: 50500165 | F34: 0 | G34: 7655722.5 | H34: =(E34+F34)-G34 -> 42844443 | I34: 1.9256429e+09 | J34: =(I34/$I$79) -> 0.00029861699 | K34: 1.982901e+09 | L34: =(K34/$K$79) -> 0.00030136661 | M34: =((K34-I34)/I34) -> 0.029734578 | N34: =(G34/K34) -> 0.0038608697 | O34: =H34/K34 -> 0.02160695 | P34: =K34/V34 -> 100 | Q34: =H34/V34 -> 2.160695 | R34: 100 | S34: 100 | T34: 229 | U34: 19256429 | V34: 19829010
A35: 28 | B35: ARM Money Market Fund | C35: ARM Investment Managers Limited | D35: 291121100144 | E35: 6879683146 | F35: 0 | G35: 6879683146 | H35: =(E35+F35)-G35 -> 0 | I35: 444879171839 | J35: =(I35/$I$79) -> 0.068989158 | K35: 448512427644 | L35: =(K35/$K$79) -> 0.06816612 | M35: =((K35-I35)/I35) -> 0.0081668373 | N35: =(G35/K35) -> 0.015338891 | O35: =H35/K35 -> 0 | P35: =K35/V35 -> 1 | Q35: =H35/V35 -> 0 | R35: 1 | S35: 1 | T35: 91046 | U35: 444879171839 | V35: 448512427644
A36: 29 | B36: AVA GAM Money Market Fund | C36: AVA Global Asset Managers Limited | D36: 1.4294667e+09 | E36: 43736026 | F36: 0 | G36: 5165070 | H36: =(E36+F36)-G36 -> 38570956 | I36: 2.2966351e+09 | J36: =(I36/$I$79) -> 0.00035614821 | K36: 2.5227355e+09 | L36: =(K36/$K$79) -> 0.00038341209 | M36: =((K36-I36)/I36) -> 0.09844856 | N36: =(G36/K36) -> 0.0020474085 | O36: =H36/K36 -> 0.015289338 | P36: =K36/V36 -> 0.91500078 | Q36: =H36/V36 -> 0.013989756 | R36: 1 | S36: 1 | T36: 490 | U36: 2505956600 | V36: 2757085600
A37: 30 | B37: AXA Mansard Money Market Fund | C37: AXA Mansard Investments Limited | D37: 1.0231579e+11 | E37: 2.5702402e+09 | G37: 2.3517792e+08 | H37: =(E37+F37)-G37 -> 2.3350623e+09 | I37: 1.7924705e+11 | J37: =(I37/$I$79) -> 0.027796544 | K37: 1.776442e+11 | L37: =(K37/$K$79) -> 0.026998842 | M37: =((K37-I37)/I37) -> -0.008942134 | N37: =(G37/K37) -> 0.0013238705 | O37: =H37/K37 -> 0.013144602 | P37: =K37/V37 -> 1.0395542 | Q37: =H37/V37 -> 0.013664525 | R37: 1 | S37: 1 | T37: 42528 | U37: 1.747169e+11 | V37: 1.7088499e+11
A38: 31 | B38: CardinalStone Money Market Fund | C38: CardinalStone Asset Mgt. Limited | D38: 4.3158209e+10 | E38: 6.8511961e+08 | F38: 0 | G38: 54298431 | H38: =(E38+F38)-G38 -> 6.3082118e+08 | I38: 3.8551975e+10 | J38: =(I38/$I$79) -> 0.005978406 | K38: 4.2397592e+10 | L38: =(K38/$K$79) -> 0.0064436996 | M38: =((K38-I38)/I38) -> 0.099751492 | N38: =(G38/K38) -> 0.0012806961 | O38: =H38/K38 -> 0.014878703 | P38: =K38/V38 -> 1 | Q38: =H38/V38 -> 0.014878703 | R38: 1 | S38: 1 | T38: 2845 | U38: 3.8551975e+10 | V38: 4.2397592e+10
A39: 32 | B39: Chapel Hill Denham Money Market Fund | C39: Chapel Hill Denham Mgt. Limited | D39: 4.8631001e+10 | E39: 7.1459242e+08 | F39: 0 | G39: 83175896 | H39: =(E39+F39)-G39 -> 6.3141653e+08 | I39: 4.7345119e+10 | J39: =(I39/$I$79) -> 0.0073419934 | K39: 5.152373e+10 | L39: =(K39/$K$79) -> 0.0078307145 | M39: =((K39-I39)/I39) -> 0.088258538 | N39: =(G39/K39) -> 0.0016143221 | O39: =H39/K39 -> 0.012254868 | P39: =K39/V39 -> 100.00023 | Q39: =H39/V39 -> 1.2254897 | R39: 100 | S39: 100 | T39: 14261 | U39: 4.7345004e+08 | V39: 5.152361e+08
A40: 33 | B40: Comercio Partners Money Market Fund | C40: Comercio Partners Asset Management Limited | D40: 3.6977773e+09 | E40: 1.5166498e+08 | F40: 0 | G40: 4800420.6 | H40: =(E40+F40)-G40 -> 1.4686456e+08 | I40: 3.8766754e+09 | J40: =(I40/$I$79) -> 0.00060117127 | K40: 3.507127e+09 | L40: =(K40/$K$79) -> 0.00053302256 | M40: =((K40-I40)/I40) -> -0.095326111 | N40: =(G40/K40) -> 0.0013687615 | O40: =H40/K40 -> 0.041876031 | P40: =K40/V40 -> 0.99675513 | Q40: =H40/V40 -> 0.041740148 | R40: 1 | S40: 1 | T40: 931 | U40: 3.8938338e+09 | V40: 3.5185443e+09
A41: 34 | B41: Coral Money Market Fund | C41: FSDH Asset Management Ltd | D41: 1.1785618e+11 | E41: 1.7291467e+09 | F41: 0 | G41: 1.817098e+08 | H41: =(E41+F41)-G41 -> 1.5474369e+09 | I41: 1.1360413e+11 | J41: =(I41/$I$79) -> 0.017617039 | K41: 1.1279845e+11 | L41: =(K41/$K$79) -> 0.01714341 | M41: =((K41-I41)/I41) -> -0.0070920417 | N41: =(G41/K41) -> 0.0016109247 | O41: =H41/K41 -> 0.013718601 | P41: =K41/V41 -> 100 | Q41: =H41/V41 -> 1.3718601 | R41: 100 | S41: 100 | T41: 6608 | U41: 1.1360413e+09 | V41: 1.1279845e+09
A42: 35 | B42: Cordros Money Market Fund | C42: Cordros Asset Management Limited | D42: 2.9477468e+10 | E42: 6.6246493e+08 | F42: 0 | G42: 51698427 | H42: =(E42+F42)-G42 -> 6.107665e+08 | I42: 47056550500 | J42: =(I42/$I$79) -> 0.0072972439 | K42: 47108478500 | L42: =(K42/$K$79) -> 0.0071596727 | M42: =((K42-I42)/I42) -> 0.0011035233 | N42: =(G42/K42) -> 0.0010974336 | O42: =H42/K42 -> 0.012965108 | P42: =K42/V42 -> 100 | Q42: =H42/V42 -> 1.2965108 | R42: 100 | S42: 100 | T42: 6169 | U42: 470565505 | V42: 471084785
A43: 36 | B43: Coronation Money Market Fund | C43: Coronation Asset Management Limited | D43: 1.1760416e+11 | E43: 1.7249392e+09 | F43: 0 | G43: 2.1487583e+08 | H43: =(E43+F43)-G43 -> 1.5100633e+09 | I43: 1.047124e+11 | J43: =(I43/$I$79) -> 0.016238162 | K43: 1.1533156e+11 | L43: =(K43/$K$79) -> 0.0175284 | M43: =((K43-I43)/I43) -> 0.10141269 | N43: =(G43/K43) -> 0.0018631138 | O43: =H43/K43 -> 0.013093236 | P43: =K43/V43 -> 1 | Q43: =H43/V43 -> 0.013093236 | R43: 1 | S43: 1 | T43: 23492 | U43: 1.047124e+11 | V43: 1.1533156e+11
A44: 37 | B44: DLM Money Market Fund | C44: DLM Asset Management Limited | D44: 3.8154585e+09 | E44: 52243107 | F44: 0 | G44: 4562241.1 | H44: =(E44+F44)-G44 -> 47680866 | I44: 2.6771974e+09 | J44: =(I44/$I$79) -> 0.0004151635 | K44: 3605455350 | L44: =(K44/$K$79) -> 0.00054796676 | M44: =((K44-I44)/I44) -> 0.34672752 | N44: =(G44/K44) -> 0.0012653717 | O44: =H44/K44 -> 0.013224645 | P44: =K44/V44 -> 1000 | Q44: =H44/V44 -> 13.224645 | R44: 1000 | S44: 1000 | T44: 487 | U44: 2677197.4 | V44: 3605455.4
A45: 38 | B45: EDC Money Market Class A | C45: EDC Fund Management | D45: 3.6314799e+10 | E45: 1.2538947e+09 | F45: 0 | G45: 1.2635785e+08 | H45: =(E45+F45)-G45 -> 1.1275369e+09 | I45: 8.1914544e+10 | J45: =(I45/$I$79) -> 0.01270281 | K45: 7.1842162e+10 | L45: =(K45/$K$79) -> 0.010918764 | M45: =((K45-I45)/I45) -> -0.12296207 | N45: =(G45/K45) -> 0.0017588258 | O45: =H45/K45 -> 0.01569464 | P45: =K45/V45 -> 88.82685 | Q45: =H45/V45 -> 1.3941054 | R45: 100 | S45: 100 | T45: 9253 | U45: 799025069 | V45: 808788802
A46: 39 | B46: EDC Money Market Class B | C46: EDC Fund Management | D46: 5.0051217e+09 | E46: 1.3786201e+08 | F46: 0 | G46: 12113627 | H46: =(E46+F46)-G46 -> 1.2574838e+08 | I46: 8.8779622e+09 | J46: =(I46/$I$79) -> 0.0013767404 | K46: 9.4731719e+09 | L46: =(K46/$K$79) -> 0.001439758 | M46: =((K46-I46)/I46) -> 0.067043503 | N46: =(G46/K46) -> 0.0012787298 | O46: =H46/K46 -> 0.013274158 | P46: =K46/V46 -> 1039979.4 | Q46: =H46/V46 -> 13804.85 | R46: 1000000 | S46: 1000000 | T46: 102 | U46: 9139 | V46: 9109
A47: 40 | B47: Emerging Africa Money Market Fund | C47: Emerging Africa Asset Management Limited | D47: 2954437542 | E47: 1.6502754e+08 | F47: 0 | G47: 16777658 | H47: =(E47+F47)-G47 -> 1.4824988e+08 | I47: 8855839460 | J47: =(I47/$I$79) -> 0.0013733098 | K47: 10223646519 | L47: =(K47/$K$79) -> 0.0015538172 | M47: =((K47-I47)/I47) -> 0.15445256 | N47: =(G47/K47) -> 0.001641064 | O47: =H47/K47 -> 0.014500685 | P47: =K47/V47 -> 0.98308946 | Q47: =H47/V47 -> 0.014255471 | R47: 1 | S47: 1 | T47: 1394 | U47: 9741147264 | V47: 10399507798
A48: 41 | B48: FCMBAM Money Market Fund | C48: FCMB Asset Management Limited | D48: 7.7285005e+10 | E48: 1.2215462e+09 | F48: 0 | G48: 1.0663729e+08 | H48: =(E48+F48)-G48 -> 1.1149089e+09 | I48: 7.2273165e+10 | J48: =(I48/$I$79) -> 0.011207683 | K48: 7.7422273e+10 | L48: =(K48/$K$79) -> 0.011766844 | M48: =((K48-I48)/I48) -> 0.0712451 | N48: =(G48/K48) -> 0.0013773464 | O48: =H48/K48 -> 0.014400364 | P48: =K48/V48 -> 0.99894288 | Q48: =H48/V48 -> 0.014385141 | R48: 1 | S48: 1 | T48: 4757 | U48: 72314865233 | V48: 77504204819
A49: 42 | B49: First Ally Money Market Fund | C49: First Ally Asset Management Limited | D49: 8.2838891e+09 | E49: 2.6096804e+08 | F49: 0 | G49: 22516388 | H49: =(E49+F49)-G49 -> 2.3845165e+08 | I49: 1.3888957e+10 | J49: =(I49/$I$79) -> 0.0021538151 | K49: 1.7105131e+10 | L49: =(K49/$K$79) -> 0.0025996836 | M49: =((K49-I49)/I49) -> 0.23156339 | N49: =(G49/K49) -> 0.0013163528 | O49: =H49/K49 -> 0.013940358 | P49: =K49/V49 -> 1.0624248 | Q49: =H49/V49 -> 0.014810582 | R49: 1 | S49: 1 | T49: 3059 | U49: 1.3108045e+10 | V49: 1.6100086e+10
... A51: 44 | B51: FSL Money Market Fund | C51: FSL Asset Management Limited | D51: 7.5771997e+09 | E51: 1.0918736e+08 | F51: 0 | G51: 9560695.5 | H51: =(E51+F51)-G51 -> 99626668 | I51: 7.8774227e+09 | J51: =(I51/$I$79) -> 0.0012215828 | K51: 7.8774227e+09 | L51: =(K51/$K$79) -> 0.0011972318 | M51: =((K51-I51)/I51) -> 0 | N51: =(G51/K51) -> 0.0012136832 | O51: =H51/K51 -> 0.012647115 | P51: =K51/V51 -> 1.0078806 | Q51: =H51/V51 -> 0.012746782 | R51: 1 | S51: 1 | T51: 1166 | U51: 7.8559382e+09 | V51: 7.8158291e+09
A52: 45 | B52: Fundvine Money Market Fund | C52: Fundvine Berkshire Asset Management Limited | D52: - | E52: 188791.45 | F52: 0 | G52: 0 | H52: =(E52+F52)-G52 -> 188791.45 | I52: 62879332 | J52: =(I52/$I$79) -> 9.7509447e-06 | K52: 63570701 | L52: =(K52/$K$79) -> 9.6616454e-06 | M52: =((K52-I52)/I52) -> 0.010995171 | N52: =(G52/K52) -> 0 | O52: =H52/K52 -> 0.0029697871 | P52: =K52/V52 -> 0.99995393 | Q52: =H52/V52 -> 0.0029696503 | R52: 1 | S52: 1 | T52: 38 | U52: 63119630 | V52: 63573630
...

Sheet NAV Comparison
A4: FUNDS | B4: Jul 2026 | C4: Aug 2026 | D4: Sep 2026
A5: EQUITY BASED FUNDS | B5: 241.38587 | C5: =[1]August!K25/1000000000 -> 233.72279 | D5: =September!K27/1000000000 -> 243.5673
A6: MONEY MARKET FUNDS | B6: 6263.1143 | C6: =[1]August!K76/1000000000 -> 6448.5374 | D6: =September!K79/1000000000 -> 6579.6972
A7: BONDS/FIXED INCOME FUNDS | B7: 232.74981 | C7: =[1]August!K117/1000000000 -> 235.10588 | D7: =September!K120/1000000000 -> 234.46569
A8: DOLLAR FUNDS | B8: 1819.397 | C8: =[1]August!K161/1000000000 -> 1752.5098 | D8: =September!K165/1000000000 -> 1745.6005
A9: REAL ESTATE INVESTMENT TRUST | B9: 519.10572 | C9: =[1]August!K170/1000000000 -> 522.41816 | D9: =September!K174/1000000000 -> 523.40201
A10: BALANCED FUNDS | B10: 155.82342 | C10: =[1]August!K203/1000000000 -> 157.76147 | D10: =September!K208/1000000000 -> 197.84026
A11: ETHICAL FUNDS | B11: 19.720978 | C11: =[1]August!K209/1000000000 -> 19.659122 | D11: =September!K214/1000000000 -> 19.659122
A12: SHARI'AH COMPLAINT FUNDS | B12: 145.25147 | C12: =[1]August!K237/1000000000 -> 147.96295 | D12: =September!K243/1000000000 -> 151.17973
A13: SPECIALISED FUNDS | B13: 52.848096 | C13: =[1]August!K248/1000000000 -> 53.951384 | D13: =September!K253/1000000000 -> 54.375339
A14: EXCHANGE TRADED FUNDS | B14: 27.933877 | C14: 32.074156 | D14: =September!K268/1000000000 -> 33.270744

Sheet Market Share
A1: FUNDS | B1: Sep 2026
A2: ETHICAL FUNDS | B2: =September!K214 -> 1.9659122e+10
A3: SPECIALISED FUNDS | B3: =September!K253 -> 5.4375339e+10
A4: SHARI'AH COMPLAINT FUNDS | B4: =September!K243 -> 1.5117973e+11
A5: EQUITY BASED FUNDS | B5: =September!K27 -> 2.435673e+11
A6: BALANCED FUNDS | B6: =September!K208 -> 1.9784026e+11
A7: BONDS/FIXED INCOME FUNDS | B7: =September!K120 -> 2.3446569e+11
A8: REAL ESTATE INVESTMENT TRUST | B8: =September!K174 -> 5.2340201e+11
A9: DOLLAR FUNDS | B9: =September!K165 -> 1.7456005e+12
A10: MONEY MARKET FUNDS | B10: =September!K79 -> 6.5796972e+12
A11: EXCHANGE TRADED FUNDS | B11: =September!K268 -> 3.3270744e+10

Sheet Unitholders
A5: FUNDS | B5: UNIT HOLDERS
A6: EQUITY BASED FUNDS | B6: =September!T27 -> 120759
A7: MONEY MARKET FUNDS | B7: =September!T79 -> 858516
A8: BONDS/FIXED INCOME FUNDS | B8: =September!T120 -> 71197
A9: DOLLAR FUNDS | B9: =September!T165 -> 32114
A10: REAL ESTATE INVESTMENT TRUST | B10: =September!T174 -> 236675
A11: BALANCED FUNDS | B11: =September!T208 -> 107852
A12: ETHICAL FUNDS | B12: =September!T214 -> 20027
A13: SHARI'AH COMPLAINT FUNDS | B13: =September!T243 -> 63991
A14: SPECIALISED FUNDS | B14: =September!T253 -> 308
A15: EXCHANGE TRADED FUNDS | B15: =September!T268 -> 52541
